BEGIN:VCALENDAR
VERSION:2.0
PRODID:-//Contratero//ES
CALSCALE:GREGORIAN
METHOD:PUBLISH
BEGIN:VEVENT
UID:PNS 9151/2023@contratero.es
DTSTAMP:20260422T071357Z
DTSTART:20231212T235959
DTEND:20231213T005959
SUMMARY:Cierre: Mantenimiento y actualización de licencias para la
DESCRIPTION:Mantenimiento y actualización de licencias para la utilización de la aplicación SWPOLICIAL y su conexión a la red Sara DGT para la gestión integral de los expedientes de la Policía Local del Ayuntamie...\\n\\nOrganismo: Alcaldía del Ayuntamiento de Aljaraque\\n\\nVer en Contratero: https://contratero.es/contracts/PNS 9151/2023
URL:https://contratero.es/contracts/PNS 9151/2023
STATUS:CONFIRMED
BEGIN:VALARM
TRIGGER:-P1D
ACTION:DISPLAY
DESCRIPTION:Recordatorio: Mantenimiento y actualización 
END:VALARM
END:VEVENT
END:VCALENDAR